BEGIN:VCALENDAR
VERSION:2.0
PRODID:-//New Hope Services - ECPv6.15.20//NONSGML v1.0//EN
CALSCALE:GREGORIAN
METHOD:PUBLISH
X-ORIGINAL-URL:https://www.newhopeservices.org
X-WR-CALDESC:Events for New Hope Services
REFRESH-INTERVAL;VALUE=DURATION:PT1H
X-Robots-Tag:noindex
X-PUBLISHED-TTL:PT1H
BEGIN:VTIMEZONE
TZID:America/Kentucky/Louisville
BEGIN:DAYLIGHT
TZOFFSETFROM:-0500
TZOFFSETTO:-0400
TZNAME:EDT
DTSTART:20230312T070000
END:DAYLIGHT
BEGIN:STANDARD
TZOFFSETFROM:-0400
TZOFFSETTO:-0500
TZNAME:EST
DTSTART:20231105T060000
END:STANDARD
BEGIN:DAYLIGHT
TZOFFSETFROM:-0500
TZOFFSETTO:-0400
TZNAME:EDT
DTSTART:20240310T070000
END:DAYLIGHT
BEGIN:STANDARD
TZOFFSETFROM:-0400
TZOFFSETTO:-0500
TZNAME:EST
DTSTART:20241103T060000
END:STANDARD
BEGIN:DAYLIGHT
TZOFFSETFROM:-0500
TZOFFSETTO:-0400
TZNAME:EDT
DTSTART:20250309T070000
END:DAYLIGHT
BEGIN:STANDARD
TZOFFSETFROM:-0400
TZOFFSETTO:-0500
TZNAME:EST
DTSTART:20251102T060000
END:STANDARD
BEGIN:DAYLIGHT
TZOFFSETFROM:-0500
TZOFFSETTO:-0400
TZNAME:EDT
DTSTART:20260308T070000
END:DAYLIGHT
BEGIN:STANDARD
TZOFFSETFROM:-0400
TZOFFSETTO:-0500
TZNAME:EST
DTSTART:20261101T060000
END:STANDARD
END:VTIMEZONE
BEGIN:VEVENT
DTSTART;TZID=America/Kentucky/Louisville:20250429T160000
DTEND;TZID=America/Kentucky/Louisville:20250429T163000
DTSTAMP:20260422T103814
CREATED:20211221T164928Z
LAST-MODIFIED:20230505T150440Z
UID:10000078-1745942400-1745944200@www.newhopeservices.org
SUMMARY:Breastfeeding Online Support Group
DESCRIPTION:Perfect for those pregnant or breastfeeding! Share experiences\, learn from one another\, and get to know your WIC Peer Counselors. Monthly topics include: milk production\, positioning\, hand expression\, discomfort\, weaning\, and much more! This support group is hosted via Zoom on the last Tuesday of the month from 4-4:30 PM. \nClick Here for the Zoom Link
URL:https://www.newhopeservices.org/event/breastfeeding-support-group/2025-04-29/
ATTACH;FMTTYPE=image/png:https://www.newhopeservices.org/wp-content/uploads/2021/12/Support-Group-1.png
END:VEVENT
BEGIN:VEVENT
DTSTART;TZID=America/Kentucky/Louisville:20250418T090000
DTEND;TZID=America/Kentucky/Louisville:20250418T120000
DTSTAMP:20260422T103814
CREATED:20171019T004012Z
LAST-MODIFIED:20230505T153119Z
UID:10000200-1744966800-1744977600@www.newhopeservices.org
SUMMARY:Car Seat Safety Check - 2 Locations
DESCRIPTION:Make sure your child is using the right seat\, the right way\, every time. Please call for an appointment with one of our Nationally Certified Child Passenger Safety Technicians.  Two locations – Clark County and Jackson County. \nThird Friday of every month\, 9:00 AM – 12:00 Noon \nNew Hope Commons                   812-288- 4304 ext. 348\n1302 Wall Street\nJeffersonville\, IN 47130 \n  \nNew Hope\, Jackson County       812-524-8365 \nCommunity Agency Building \n113 N. Chestnut \nSeymour\, IN 47274 \n 
URL:https://www.newhopeservices.org/event/car-seat-safety-check/2025-04-18/
ATTACH;FMTTYPE=image/png:https://www.newhopeservices.org/wp-content/uploads/2017/10/MicrosoftTeams-image-56.png
END:VEVENT
BEGIN:VEVENT
DTSTART;TZID=America/Kentucky/Louisville:20250325T160000
DTEND;TZID=America/Kentucky/Louisville:20250325T163000
DTSTAMP:20260422T103814
CREATED:20211221T164928Z
LAST-MODIFIED:20230505T150440Z
UID:10000077-1742918400-1742920200@www.newhopeservices.org
SUMMARY:Breastfeeding Online Support Group
DESCRIPTION:Perfect for those pregnant or breastfeeding! Share experiences\, learn from one another\, and get to know your WIC Peer Counselors. Monthly topics include: milk production\, positioning\, hand expression\, discomfort\, weaning\, and much more! This support group is hosted via Zoom on the last Tuesday of the month from 4-4:30 PM. \nClick Here for the Zoom Link
URL:https://www.newhopeservices.org/event/breastfeeding-support-group/2025-03-25/
ATTACH;FMTTYPE=image/png:https://www.newhopeservices.org/wp-content/uploads/2021/12/Support-Group-1.png
END:VEVENT
BEGIN:VEVENT
DTSTART;TZID=America/Kentucky/Louisville:20250321T090000
DTEND;TZID=America/Kentucky/Louisville:20250321T120000
DTSTAMP:20260422T103814
CREATED:20171019T004012Z
LAST-MODIFIED:20230505T153119Z
UID:10000199-1742547600-1742558400@www.newhopeservices.org
SUMMARY:Car Seat Safety Check - 2 Locations
DESCRIPTION:Make sure your child is using the right seat\, the right way\, every time. Please call for an appointment with one of our Nationally Certified Child Passenger Safety Technicians.  Two locations – Clark County and Jackson County. \nThird Friday of every month\, 9:00 AM – 12:00 Noon \nNew Hope Commons                   812-288- 4304 ext. 348\n1302 Wall Street\nJeffersonville\, IN 47130 \n  \nNew Hope\, Jackson County       812-524-8365 \nCommunity Agency Building \n113 N. Chestnut \nSeymour\, IN 47274 \n 
URL:https://www.newhopeservices.org/event/car-seat-safety-check/2025-03-21/
ATTACH;FMTTYPE=image/png:https://www.newhopeservices.org/wp-content/uploads/2017/10/MicrosoftTeams-image-56.png
END:VEVENT
BEGIN:VEVENT
DTSTART;TZID=America/Kentucky/Louisville:20250313T090000
DTEND;TZID=America/Kentucky/Louisville:20250313T100000
DTSTAMP:20260422T103814
CREATED:20230615T183359Z
LAST-MODIFIED:20240619T201958Z
UID:10002066-1741856400-1741860000@www.newhopeservices.org
SUMMARY:Upcoming Tour Dates
DESCRIPTION:Wondering if we’re the right fit for you and your needs? Come see for yourself! Enjoy breakfast and a tour of our facility to hear an overview of our services. Please RSVP to Ms. Kim at 812.288.8248 ext 132. \nSchedule a tour today \n 
URL:https://www.newhopeservices.org/event/upcoming-tour-dates/2025-03-13/
LOCATION:725 Wall Street\, 725 Wall Street\, Jeffersonville\, IN\, 47130\, United States
ATTACH;FMTTYPE=image/png:https://www.newhopeservices.org/wp-content/uploads/2023/06/Tour.png
END:VEVENT
BEGIN:VEVENT
DTSTART;TZID=America/Kentucky/Louisville:20250225T160000
DTEND;TZID=America/Kentucky/Louisville:20250225T163000
DTSTAMP:20260422T103814
CREATED:20211221T164928Z
LAST-MODIFIED:20230505T150440Z
UID:10000076-1740499200-1740501000@www.newhopeservices.org
SUMMARY:Breastfeeding Online Support Group
DESCRIPTION:Perfect for those pregnant or breastfeeding! Share experiences\, learn from one another\, and get to know your WIC Peer Counselors. Monthly topics include: milk production\, positioning\, hand expression\, discomfort\, weaning\, and much more! This support group is hosted via Zoom on the last Tuesday of the month from 4-4:30 PM. \nClick Here for the Zoom Link
URL:https://www.newhopeservices.org/event/breastfeeding-support-group/2025-02-25/
ATTACH;FMTTYPE=image/png:https://www.newhopeservices.org/wp-content/uploads/2021/12/Support-Group-1.png
END:VEVENT
BEGIN:VEVENT
DTSTART;TZID=America/Kentucky/Louisville:20250221T090000
DTEND;TZID=America/Kentucky/Louisville:20250221T120000
DTSTAMP:20260422T103814
CREATED:20171019T004012Z
LAST-MODIFIED:20230505T153119Z
UID:10000198-1740128400-1740139200@www.newhopeservices.org
SUMMARY:Car Seat Safety Check - 2 Locations
DESCRIPTION:Make sure your child is using the right seat\, the right way\, every time. Please call for an appointment with one of our Nationally Certified Child Passenger Safety Technicians.  Two locations – Clark County and Jackson County. \nThird Friday of every month\, 9:00 AM – 12:00 Noon \nNew Hope Commons                   812-288- 4304 ext. 348\n1302 Wall Street\nJeffersonville\, IN 47130 \n  \nNew Hope\, Jackson County       812-524-8365 \nCommunity Agency Building \n113 N. Chestnut \nSeymour\, IN 47274 \n 
URL:https://www.newhopeservices.org/event/car-seat-safety-check/2025-02-21/
ATTACH;FMTTYPE=image/png:https://www.newhopeservices.org/wp-content/uploads/2017/10/MicrosoftTeams-image-56.png
END:VEVENT
BEGIN:VEVENT
DTSTART;TZID=America/Kentucky/Louisville:20250128T160000
DTEND;TZID=America/Kentucky/Louisville:20250128T163000
DTSTAMP:20260422T103814
CREATED:20211221T164928Z
LAST-MODIFIED:20230505T150440Z
UID:10000075-1738080000-1738081800@www.newhopeservices.org
SUMMARY:Breastfeeding Online Support Group
DESCRIPTION:Perfect for those pregnant or breastfeeding! Share experiences\, learn from one another\, and get to know your WIC Peer Counselors. Monthly topics include: milk production\, positioning\, hand expression\, discomfort\, weaning\, and much more! This support group is hosted via Zoom on the last Tuesday of the month from 4-4:30 PM. \nClick Here for the Zoom Link
URL:https://www.newhopeservices.org/event/breastfeeding-support-group/2025-01-28/
ATTACH;FMTTYPE=image/png:https://www.newhopeservices.org/wp-content/uploads/2021/12/Support-Group-1.png
END:VEVENT
BEGIN:VEVENT
DTSTART;TZID=America/Kentucky/Louisville:20250117T090000
DTEND;TZID=America/Kentucky/Louisville:20250117T120000
DTSTAMP:20260422T103814
CREATED:20171019T004012Z
LAST-MODIFIED:20230505T153119Z
UID:10000197-1737104400-1737115200@www.newhopeservices.org
SUMMARY:Car Seat Safety Check - 2 Locations
DESCRIPTION:Make sure your child is using the right seat\, the right way\, every time. Please call for an appointment with one of our Nationally Certified Child Passenger Safety Technicians.  Two locations – Clark County and Jackson County. \nThird Friday of every month\, 9:00 AM – 12:00 Noon \nNew Hope Commons                   812-288- 4304 ext. 348\n1302 Wall Street\nJeffersonville\, IN 47130 \n  \nNew Hope\, Jackson County       812-524-8365 \nCommunity Agency Building \n113 N. Chestnut \nSeymour\, IN 47274 \n 
URL:https://www.newhopeservices.org/event/car-seat-safety-check/2025-01-17/
ATTACH;FMTTYPE=image/png:https://www.newhopeservices.org/wp-content/uploads/2017/10/MicrosoftTeams-image-56.png
END:VEVENT
BEGIN:VEVENT
DTSTART;TZID=America/Kentucky/Louisville:20241231T160000
DTEND;TZID=America/Kentucky/Louisville:20241231T163000
DTSTAMP:20260422T103814
CREATED:20211221T164928Z
LAST-MODIFIED:20230505T150440Z
UID:10000074-1735660800-1735662600@www.newhopeservices.org
SUMMARY:Breastfeeding Online Support Group
DESCRIPTION:Perfect for those pregnant or breastfeeding! Share experiences\, learn from one another\, and get to know your WIC Peer Counselors. Monthly topics include: milk production\, positioning\, hand expression\, discomfort\, weaning\, and much more! This support group is hosted via Zoom on the last Tuesday of the month from 4-4:30 PM. \nClick Here for the Zoom Link
URL:https://www.newhopeservices.org/event/breastfeeding-support-group/2024-12-31/
ATTACH;FMTTYPE=image/png:https://www.newhopeservices.org/wp-content/uploads/2021/12/Support-Group-1.png
END:VEVENT
BEGIN:VEVENT
DTSTART;TZID=America/Kentucky/Louisville:20241220T090000
DTEND;TZID=America/Kentucky/Louisville:20241220T120000
DTSTAMP:20260422T103814
CREATED:20171019T004012Z
LAST-MODIFIED:20230505T153119Z
UID:10000196-1734685200-1734696000@www.newhopeservices.org
SUMMARY:Car Seat Safety Check - 2 Locations
DESCRIPTION:Make sure your child is using the right seat\, the right way\, every time. Please call for an appointment with one of our Nationally Certified Child Passenger Safety Technicians.  Two locations – Clark County and Jackson County. \nThird Friday of every month\, 9:00 AM – 12:00 Noon \nNew Hope Commons                   812-288- 4304 ext. 348\n1302 Wall Street\nJeffersonville\, IN 47130 \n  \nNew Hope\, Jackson County       812-524-8365 \nCommunity Agency Building \n113 N. Chestnut \nSeymour\, IN 47274 \n 
URL:https://www.newhopeservices.org/event/car-seat-safety-check/2024-12-20/
ATTACH;FMTTYPE=image/png:https://www.newhopeservices.org/wp-content/uploads/2017/10/MicrosoftTeams-image-56.png
END:VEVENT
BEGIN:VEVENT
DTSTART;TZID=America/Kentucky/Louisville:20241212T090000
DTEND;TZID=America/Kentucky/Louisville:20241212T100000
DTSTAMP:20260422T103814
CREATED:20230615T183359Z
LAST-MODIFIED:20240619T201958Z
UID:10002065-1733994000-1733997600@www.newhopeservices.org
SUMMARY:Upcoming Tour Dates
DESCRIPTION:Wondering if we’re the right fit for you and your needs? Come see for yourself! Enjoy breakfast and a tour of our facility to hear an overview of our services. Please RSVP to Ms. Kim at 812.288.8248 ext 132. \nSchedule a tour today \n 
URL:https://www.newhopeservices.org/event/upcoming-tour-dates/2024-12-12/
LOCATION:725 Wall Street\, 725 Wall Street\, Jeffersonville\, IN\, 47130\, United States
ATTACH;FMTTYPE=image/png:https://www.newhopeservices.org/wp-content/uploads/2023/06/Tour.png
END:VEVENT
BEGIN:VEVENT
DTSTART;TZID=America/Kentucky/Louisville:20241126T160000
DTEND;TZID=America/Kentucky/Louisville:20241126T163000
DTSTAMP:20260422T103814
CREATED:20211221T164928Z
LAST-MODIFIED:20230505T150440Z
UID:10000073-1732636800-1732638600@www.newhopeservices.org
SUMMARY:Breastfeeding Online Support Group
DESCRIPTION:Perfect for those pregnant or breastfeeding! Share experiences\, learn from one another\, and get to know your WIC Peer Counselors. Monthly topics include: milk production\, positioning\, hand expression\, discomfort\, weaning\, and much more! This support group is hosted via Zoom on the last Tuesday of the month from 4-4:30 PM. \nClick Here for the Zoom Link
URL:https://www.newhopeservices.org/event/breastfeeding-support-group/2024-11-26/
ATTACH;FMTTYPE=image/png:https://www.newhopeservices.org/wp-content/uploads/2021/12/Support-Group-1.png
END:VEVENT
BEGIN:VEVENT
DTSTART;TZID=America/Kentucky/Louisville:20241115T090000
DTEND;TZID=America/Kentucky/Louisville:20241115T120000
DTSTAMP:20260422T103814
CREATED:20171019T004012Z
LAST-MODIFIED:20230505T153119Z
UID:10000195-1731661200-1731672000@www.newhopeservices.org
SUMMARY:Car Seat Safety Check - 2 Locations
DESCRIPTION:Make sure your child is using the right seat\, the right way\, every time. Please call for an appointment with one of our Nationally Certified Child Passenger Safety Technicians.  Two locations – Clark County and Jackson County. \nThird Friday of every month\, 9:00 AM – 12:00 Noon \nNew Hope Commons                   812-288- 4304 ext. 348\n1302 Wall Street\nJeffersonville\, IN 47130 \n  \nNew Hope\, Jackson County       812-524-8365 \nCommunity Agency Building \n113 N. Chestnut \nSeymour\, IN 47274 \n 
URL:https://www.newhopeservices.org/event/car-seat-safety-check/2024-11-15/
ATTACH;FMTTYPE=image/png:https://www.newhopeservices.org/wp-content/uploads/2017/10/MicrosoftTeams-image-56.png
END:VEVENT
BEGIN:VEVENT
DTSTART;TZID=America/Kentucky/Louisville:20241029T160000
DTEND;TZID=America/Kentucky/Louisville:20241029T163000
DTSTAMP:20260422T103814
CREATED:20211221T164928Z
LAST-MODIFIED:20230505T150440Z
UID:10000072-1730217600-1730219400@www.newhopeservices.org
SUMMARY:Breastfeeding Online Support Group
DESCRIPTION:Perfect for those pregnant or breastfeeding! Share experiences\, learn from one another\, and get to know your WIC Peer Counselors. Monthly topics include: milk production\, positioning\, hand expression\, discomfort\, weaning\, and much more! This support group is hosted via Zoom on the last Tuesday of the month from 4-4:30 PM. \nClick Here for the Zoom Link
URL:https://www.newhopeservices.org/event/breastfeeding-support-group/2024-10-29/
ATTACH;FMTTYPE=image/png:https://www.newhopeservices.org/wp-content/uploads/2021/12/Support-Group-1.png
END:VEVENT
BEGIN:VEVENT
DTSTART;TZID=America/Kentucky/Louisville:20241018T090000
DTEND;TZID=America/Kentucky/Louisville:20241018T120000
DTSTAMP:20260422T103814
CREATED:20171019T004012Z
LAST-MODIFIED:20230505T153119Z
UID:10000194-1729242000-1729252800@www.newhopeservices.org
SUMMARY:Car Seat Safety Check - 2 Locations
DESCRIPTION:Make sure your child is using the right seat\, the right way\, every time. Please call for an appointment with one of our Nationally Certified Child Passenger Safety Technicians.  Two locations – Clark County and Jackson County. \nThird Friday of every month\, 9:00 AM – 12:00 Noon \nNew Hope Commons                   812-288- 4304 ext. 348\n1302 Wall Street\nJeffersonville\, IN 47130 \n  \nNew Hope\, Jackson County       812-524-8365 \nCommunity Agency Building \n113 N. Chestnut \nSeymour\, IN 47274 \n 
URL:https://www.newhopeservices.org/event/car-seat-safety-check/2024-10-18/
ATTACH;FMTTYPE=image/png:https://www.newhopeservices.org/wp-content/uploads/2017/10/MicrosoftTeams-image-56.png
END:VEVENT
BEGIN:VEVENT
DTSTART;TZID=America/Kentucky/Louisville:20240924T160000
DTEND;TZID=America/Kentucky/Louisville:20240924T163000
DTSTAMP:20260422T103814
CREATED:20211221T164928Z
LAST-MODIFIED:20230505T150440Z
UID:10000071-1727193600-1727195400@www.newhopeservices.org
SUMMARY:Breastfeeding Online Support Group
DESCRIPTION:Perfect for those pregnant or breastfeeding! Share experiences\, learn from one another\, and get to know your WIC Peer Counselors. Monthly topics include: milk production\, positioning\, hand expression\, discomfort\, weaning\, and much more! This support group is hosted via Zoom on the last Tuesday of the month from 4-4:30 PM. \nClick Here for the Zoom Link
URL:https://www.newhopeservices.org/event/breastfeeding-support-group/2024-09-24/
ATTACH;FMTTYPE=image/png:https://www.newhopeservices.org/wp-content/uploads/2021/12/Support-Group-1.png
END:VEVENT
BEGIN:VEVENT
DTSTART;TZID=America/Kentucky/Louisville:20240920T090000
DTEND;TZID=America/Kentucky/Louisville:20240920T120000
DTSTAMP:20260422T103814
CREATED:20171019T004012Z
LAST-MODIFIED:20230505T153119Z
UID:10000193-1726822800-1726833600@www.newhopeservices.org
SUMMARY:Car Seat Safety Check - 2 Locations
DESCRIPTION:Make sure your child is using the right seat\, the right way\, every time. Please call for an appointment with one of our Nationally Certified Child Passenger Safety Technicians.  Two locations – Clark County and Jackson County. \nThird Friday of every month\, 9:00 AM – 12:00 Noon \nNew Hope Commons                   812-288- 4304 ext. 348\n1302 Wall Street\nJeffersonville\, IN 47130 \n  \nNew Hope\, Jackson County       812-524-8365 \nCommunity Agency Building \n113 N. Chestnut \nSeymour\, IN 47274 \n 
URL:https://www.newhopeservices.org/event/car-seat-safety-check/2024-09-20/
ATTACH;FMTTYPE=image/png:https://www.newhopeservices.org/wp-content/uploads/2017/10/MicrosoftTeams-image-56.png
END:VEVENT
BEGIN:VEVENT
DTSTART;TZID=America/Kentucky/Louisville:20240919T090000
DTEND;TZID=America/Kentucky/Louisville:20240919T100000
DTSTAMP:20260422T103814
CREATED:20230615T183359Z
LAST-MODIFIED:20240619T201958Z
UID:10002064-1726736400-1726740000@www.newhopeservices.org
SUMMARY:Upcoming Tour Dates
DESCRIPTION:Wondering if we’re the right fit for you and your needs? Come see for yourself! Enjoy breakfast and a tour of our facility to hear an overview of our services. Please RSVP to Ms. Kim at 812.288.8248 ext 132. \nSchedule a tour today \n 
URL:https://www.newhopeservices.org/event/upcoming-tour-dates/2024-09-19/
LOCATION:725 Wall Street\, 725 Wall Street\, Jeffersonville\, IN\, 47130\, United States
ATTACH;FMTTYPE=image/png:https://www.newhopeservices.org/wp-content/uploads/2023/06/Tour.png
END:VEVENT
BEGIN:VEVENT
DTSTART;TZID=America/Kentucky/Louisville:20240827T160000
DTEND;TZID=America/Kentucky/Louisville:20240827T163000
DTSTAMP:20260422T103814
CREATED:20211221T164928Z
LAST-MODIFIED:20230505T150440Z
UID:10000070-1724774400-1724776200@www.newhopeservices.org
SUMMARY:Breastfeeding Online Support Group
DESCRIPTION:Perfect for those pregnant or breastfeeding! Share experiences\, learn from one another\, and get to know your WIC Peer Counselors. Monthly topics include: milk production\, positioning\, hand expression\, discomfort\, weaning\, and much more! This support group is hosted via Zoom on the last Tuesday of the month from 4-4:30 PM. \nClick Here for the Zoom Link
URL:https://www.newhopeservices.org/event/breastfeeding-support-group/2024-08-27/
ATTACH;FMTTYPE=image/png:https://www.newhopeservices.org/wp-content/uploads/2021/12/Support-Group-1.png
END:VEVENT
BEGIN:VEVENT
DTSTART;TZID=America/Kentucky/Louisville:20240816T090000
DTEND;TZID=America/Kentucky/Louisville:20240816T120000
DTSTAMP:20260422T103814
CREATED:20171019T004012Z
LAST-MODIFIED:20230505T153119Z
UID:10000192-1723798800-1723809600@www.newhopeservices.org
SUMMARY:Car Seat Safety Check - 2 Locations
DESCRIPTION:Make sure your child is using the right seat\, the right way\, every time. Please call for an appointment with one of our Nationally Certified Child Passenger Safety Technicians.  Two locations – Clark County and Jackson County. \nThird Friday of every month\, 9:00 AM – 12:00 Noon \nNew Hope Commons                   812-288- 4304 ext. 348\n1302 Wall Street\nJeffersonville\, IN 47130 \n  \nNew Hope\, Jackson County       812-524-8365 \nCommunity Agency Building \n113 N. Chestnut \nSeymour\, IN 47274 \n 
URL:https://www.newhopeservices.org/event/car-seat-safety-check/2024-08-16/
ATTACH;FMTTYPE=image/png:https://www.newhopeservices.org/wp-content/uploads/2017/10/MicrosoftTeams-image-56.png
END:VEVENT
BEGIN:VEVENT
DTSTART;TZID=America/Kentucky/Louisville:20240730T160000
DTEND;TZID=America/Kentucky/Louisville:20240730T163000
DTSTAMP:20260422T103814
CREATED:20211221T164928Z
LAST-MODIFIED:20230505T150440Z
UID:10000069-1722355200-1722357000@www.newhopeservices.org
SUMMARY:Breastfeeding Online Support Group
DESCRIPTION:Perfect for those pregnant or breastfeeding! Share experiences\, learn from one another\, and get to know your WIC Peer Counselors. Monthly topics include: milk production\, positioning\, hand expression\, discomfort\, weaning\, and much more! This support group is hosted via Zoom on the last Tuesday of the month from 4-4:30 PM. \nClick Here for the Zoom Link
URL:https://www.newhopeservices.org/event/breastfeeding-support-group/2024-07-30/
ATTACH;FMTTYPE=image/png:https://www.newhopeservices.org/wp-content/uploads/2021/12/Support-Group-1.png
END:VEVENT
BEGIN:VEVENT
DTSTART;TZID=America/Kentucky/Louisville:20240719T090000
DTEND;TZID=America/Kentucky/Louisville:20240719T120000
DTSTAMP:20260422T103814
CREATED:20171019T004012Z
LAST-MODIFIED:20230505T153119Z
UID:10000191-1721379600-1721390400@www.newhopeservices.org
SUMMARY:Car Seat Safety Check - 2 Locations
DESCRIPTION:Make sure your child is using the right seat\, the right way\, every time. Please call for an appointment with one of our Nationally Certified Child Passenger Safety Technicians.  Two locations – Clark County and Jackson County. \nThird Friday of every month\, 9:00 AM – 12:00 Noon \nNew Hope Commons                   812-288- 4304 ext. 348\n1302 Wall Street\nJeffersonville\, IN 47130 \n  \nNew Hope\, Jackson County       812-524-8365 \nCommunity Agency Building \n113 N. Chestnut \nSeymour\, IN 47274 \n 
URL:https://www.newhopeservices.org/event/car-seat-safety-check/2024-07-19/
ATTACH;FMTTYPE=image/png:https://www.newhopeservices.org/wp-content/uploads/2017/10/MicrosoftTeams-image-56.png
END:VEVENT
BEGIN:VEVENT
DTSTART;TZID=America/Kentucky/Louisville:20240625T160000
DTEND;TZID=America/Kentucky/Louisville:20240625T163000
DTSTAMP:20260422T103814
CREATED:20211221T164928Z
LAST-MODIFIED:20230505T150440Z
UID:10000068-1719331200-1719333000@www.newhopeservices.org
SUMMARY:Breastfeeding Online Support Group
DESCRIPTION:Perfect for those pregnant or breastfeeding! Share experiences\, learn from one another\, and get to know your WIC Peer Counselors. Monthly topics include: milk production\, positioning\, hand expression\, discomfort\, weaning\, and much more! This support group is hosted via Zoom on the last Tuesday of the month from 4-4:30 PM. \nClick Here for the Zoom Link
URL:https://www.newhopeservices.org/event/breastfeeding-support-group/2024-06-25/
ATTACH;FMTTYPE=image/png:https://www.newhopeservices.org/wp-content/uploads/2021/12/Support-Group-1.png
END:VEVENT
BEGIN:VEVENT
DTSTART;TZID=America/Kentucky/Louisville:20240621T090000
DTEND;TZID=America/Kentucky/Louisville:20240621T120000
DTSTAMP:20260422T103814
CREATED:20171019T004012Z
LAST-MODIFIED:20230505T153119Z
UID:10000190-1718960400-1718971200@www.newhopeservices.org
SUMMARY:Car Seat Safety Check - 2 Locations
DESCRIPTION:Make sure your child is using the right seat\, the right way\, every time. Please call for an appointment with one of our Nationally Certified Child Passenger Safety Technicians.  Two locations – Clark County and Jackson County. \nThird Friday of every month\, 9:00 AM – 12:00 Noon \nNew Hope Commons                   812-288- 4304 ext. 348\n1302 Wall Street\nJeffersonville\, IN 47130 \n  \nNew Hope\, Jackson County       812-524-8365 \nCommunity Agency Building \n113 N. Chestnut \nSeymour\, IN 47274 \n 
URL:https://www.newhopeservices.org/event/car-seat-safety-check/2024-06-21/
ATTACH;FMTTYPE=image/png:https://www.newhopeservices.org/wp-content/uploads/2017/10/MicrosoftTeams-image-56.png
END:VEVENT
BEGIN:VEVENT
DTSTART;TZID=America/Kentucky/Louisville:20240612T100000
DTEND;TZID=America/Kentucky/Louisville:20240612T120000
DTSTAMP:20260422T103814
CREATED:20240515T123205Z
LAST-MODIFIED:20240515T123251Z
UID:10002063-1718186400-1718193600@www.newhopeservices.org
SUMMARY:Summer Block Party
DESCRIPTION:DATE AND TIME\n\nJune 12\n10 am – 12pm \n\nLOCATION\n\n1302 Wall Street Jeffersonville\, IN
URL:https://www.newhopeservices.org/event/summer-block-party/
CATEGORIES:Open to the public
ATTACH;FMTTYPE=image/png:https://www.newhopeservices.org/wp-content/uploads/2024/05/Screenshot-2024-05-15-at-83111 AM.png
END:VEVENT
BEGIN:VEVENT
DTSTART;TZID=America/Kentucky/Louisville:20240607T083000
DTEND;TZID=America/Kentucky/Louisville:20240607T100000
DTSTAMP:20260422T103814
CREATED:20240131T160911Z
LAST-MODIFIED:20241101T151411Z
UID:10002062-1717749000-1717754400@www.newhopeservices.org
SUMMARY:Giving Hope
DESCRIPTION:Register Here! \nDon’t miss out on this opportunity to be part of something greater! Embark on a morning of inspiration and impact as we host our inaugural Giving Hope Breakfast. RSVP now and join us in giving hope to those who need it\nmost. \nDATE AND TIME\n\nFri\, June 07\, 2024 \n8:30 AM – 10:00 AM EDT \n\nLOCATION\n\nThe Camp \n310 Spring Street \nJeffersonville\, IN 47130 \nUnited States
URL:https://www.newhopeservices.org/event/giving-hopee/
ATTACH;FMTTYPE=image/png:https://www.newhopeservices.org/wp-content/uploads/2024/01/Giving-Dotted-Sun-2.png
END:VEVENT
BEGIN:VEVENT
DTSTART;TZID=America/Kentucky/Louisville:20240528T160000
DTEND;TZID=America/Kentucky/Louisville:20240528T163000
DTSTAMP:20260422T103814
CREATED:20211221T164928Z
LAST-MODIFIED:20230505T150440Z
UID:10000067-1716912000-1716913800@www.newhopeservices.org
SUMMARY:Breastfeeding Online Support Group
DESCRIPTION:Perfect for those pregnant or breastfeeding! Share experiences\, learn from one another\, and get to know your WIC Peer Counselors. Monthly topics include: milk production\, positioning\, hand expression\, discomfort\, weaning\, and much more! This support group is hosted via Zoom on the last Tuesday of the month from 4-4:30 PM. \nClick Here for the Zoom Link
URL:https://www.newhopeservices.org/event/breastfeeding-support-group/2024-05-28/
ATTACH;FMTTYPE=image/png:https://www.newhopeservices.org/wp-content/uploads/2021/12/Support-Group-1.png
END:VEVENT
BEGIN:VEVENT
DTSTART;TZID=America/Kentucky/Louisville:20240517T090000
DTEND;TZID=America/Kentucky/Louisville:20240517T120000
DTSTAMP:20260422T103814
CREATED:20171019T004012Z
LAST-MODIFIED:20230505T153119Z
UID:10000189-1715936400-1715947200@www.newhopeservices.org
SUMMARY:Car Seat Safety Check - 2 Locations
DESCRIPTION:Make sure your child is using the right seat\, the right way\, every time. Please call for an appointment with one of our Nationally Certified Child Passenger Safety Technicians.  Two locations – Clark County and Jackson County. \nThird Friday of every month\, 9:00 AM – 12:00 Noon \nNew Hope Commons                   812-288- 4304 ext. 348\n1302 Wall Street\nJeffersonville\, IN 47130 \n  \nNew Hope\, Jackson County       812-524-8365 \nCommunity Agency Building \n113 N. Chestnut \nSeymour\, IN 47274 \n 
URL:https://www.newhopeservices.org/event/car-seat-safety-check/2024-05-17/
ATTACH;FMTTYPE=image/png:https://www.newhopeservices.org/wp-content/uploads/2017/10/MicrosoftTeams-image-56.png
END:VEVENT
BEGIN:VEVENT
DTSTART;TZID=America/Kentucky/Louisville:20240430T160000
DTEND;TZID=America/Kentucky/Louisville:20240430T163000
DTSTAMP:20260422T103814
CREATED:20211221T164928Z
LAST-MODIFIED:20230505T150440Z
UID:10000066-1714492800-1714494600@www.newhopeservices.org
SUMMARY:Breastfeeding Online Support Group
DESCRIPTION:Perfect for those pregnant or breastfeeding! Share experiences\, learn from one another\, and get to know your WIC Peer Counselors. Monthly topics include: milk production\, positioning\, hand expression\, discomfort\, weaning\, and much more! This support group is hosted via Zoom on the last Tuesday of the month from 4-4:30 PM. \nClick Here for the Zoom Link
URL:https://www.newhopeservices.org/event/breastfeeding-support-group/2024-04-30/
ATTACH;FMTTYPE=image/png:https://www.newhopeservices.org/wp-content/uploads/2021/12/Support-Group-1.png
END:VEVENT
END:VCALENDAR